Workbook

Sheet Sheet1
A1: 华南农业大学2026-2027学年广东省硕士研究生国家助学金受助学生汇总表
A2: 填报单位（公章）：
A3: 序号 | B3: 学生姓名 | C3: 性别 | D3: 民族 | E3: 培养单位 | F3: 基层单位 | G3: 专业 | H3: 学号 | I3: 入学年月 | J3: 是否档案已到校 | K3: 是否有固定收入 | L3: 其他说明事项
A4: 示例 | B4: 张三 | C4: 男 | D4: 汉族 | E4: 华南农业大学 | F4: 农学院 | G4: 作物遗传育种 | H4: 填写准确 | I4: 2026年9月
A5: 1 | B5: 安凯伟 | C5: 男 | D5: {=_xlfn.XLOOKUP(B5,[1]研究生学籍信息表!$F$4:$F$1084,[1]研究生学籍信息表!$V$4:$V$1084)} -> 汉族 | E5: 华南农业大学 | F5: 植物保护学院 | G5: 植物病理学 | H5: 20242021001 | I5: {=_xlfn.XLOOKUP(B5,[1]研究生学籍信息表!$F$4:$F$1084,[1]研究生学籍信息表!$T$4:$T$1084)} -> 45536 | J5: 是 | K5: 否
A6: 2 | B6: 陈江博 | C6: 男 | D6: {=_xlfn.XLOOKUP(B6,[1]研究生学籍信息表!$F$4:$F$1084,[1]研究生学籍信息表!$V$4:$V$1084)} -> 汉族 | E6: 华南农业大学 | F6: 植物保护学院 | G6: 植物病理学 | H6: 20242021002 | I6: {=_xlfn.XLOOKUP(B6,[1]研究生学籍信息表!$F$4:$F$1084,[1]研究生学籍信息表!$T$4:$T$1084)} -> 45536 | J6: 是 | K6: 否
A7: 3 | B7: 陈圣文 | C7: 男 | D7: {=_xlfn.XLOOKUP(B7,[1]研究生学籍信息表!$F$4:$F$1084,[1]研究生学籍信息表!$V$4:$V$1084)} -> 汉族 | E7: 华南农业大学 | F7: 植物保护学院 | G7: 植物病理学 | H7: 20242021003 | I7: {=_xlfn.XLOOKUP(B7,[1]研究生学籍信息表!$F$4:$F$1084,[1]研究生学籍信息表!$T$4:$T$1084)} -> 45536 | J7: 是 | K7: 否
A8: 4 | B8: 陈廷婷 | C8: 女 | D8: {=_xlfn.XLOOKUP(B8,[1]研究生学籍信息表!$F$4:$F$1084,[1]研究生学籍信息表!$V$4:$V$1084)} -> 汉族 | E8: 华南农业大学 | F8: 植物保护学院 | G8: 植物病理学 | H8: 20242021004 | I8: {=_xlfn.XLOOKUP(B8,[1]研究生学籍信息表!$F$4:$F$1084,[1]研究生学籍信息表!$T$4:$T$1084)} -> 45536 | J8: 是 | K8: 否
A9: 5 | B9: 程思满 | C9: 女 | D9: {=_xlfn.XLOOKUP(B9,[1]研究生学籍信息表!$F$4:$F$1084,[1]研究生学籍信息表!$V$4:$V$1084)} -> 汉族 | E9: 华南农业大学 | F9: 植物保护学院 | G9: 植物病理学 | H9: 20242021005 | I9: {=_xlfn.XLOOKUP(B9,[1]研究生学籍信息表!$F$4:$F$1084,[1]研究生学籍信息表!$T$4:$T$1084)} -> 45536 | J9: 是 | K9: 否
A10: 6 | B10: 范颖琪 | C10: 女 | D10: {=_xlfn.XLOOKUP(B10,[1]研究生学籍信息表!$F$4:$F$1084,[1]研究生学籍信息表!$V$4:$V$1084)} -> 汉族 | E10: 华南农业大学 | F10: 植物保护学院 | G10: 植物病理学 | H10: 20242021006 | I10: {=_xlfn.XLOOKUP(B10,[1]研究生学籍信息表!$F$4:$F$1084,[1]研究生学籍信息表!$T$4:$T$1084)} -> 45536 | J10: 是 | K10: 否
A11: 7 | B11: 洪家豪 | C11: 男 | D11: {=_xlfn.XLOOKUP(B11,[1]研究生学籍信息表!$F$4:$F$1084,[1]研究生学籍信息表!$V$4:$V$1084)} -> 汉族 | E11: 华南农业大学 | F11: 植物保护学院 | G11: 植物病理学 | H11: 20242021007 | I11: {=_xlfn.XLOOKUP(B11,[1]研究生学籍信息表!$F$4:$F$1084,[1]研究生学籍信息表!$T$4:$T$1084)} -> 45536 | J11: 是 | K11: 否
A12: 8 | B12: 黄国毅 | C12: 女 | D12: {=_xlfn.XLOOKUP(B12,[1]研究生学籍信息表!$F$4:$F$1084,[1]研究生学籍信息表!$V$4:$V$1084)} -> 汉族 | E12: 华南农业大学 | F12: 植物保护学院 | G12: 植物病理学 | H12: 20242021008 | I12: {=_xlfn.XLOOKUP(B12,[1]研究生学籍信息表!$F$4:$F$1084,[1]研究生学籍信息表!$T$4:$T$1084)} -> 45536 | J12: 是 | K12: 否
A13: 9 | B13: 黄浩然 | C13: 男 | D13: {=_xlfn.XLOOKUP(B13,[1]研究生学籍信息表!$F$4:$F$1084,[1]研究生学籍信息表!$V$4:$V$1084)} -> 汉族 | E13: 华南农业大学 | F13: 植物保护学院 | G13: 植物病理学 | H13: 20242021009 | I13: {=_xlfn.XLOOKUP(B13,[1]研究生学籍信息表!$F$4:$F$1084,[1]研究生学籍信息表!$T$4:$T$1084)} -> 45536 | J13: 是 | K13: 否
A14: 10 | B14: 黄佳仪 | C14: 女 | D14: {=_xlfn.XLOOKUP(B14,[1]研究生学籍信息表!$F$4:$F$1084,[1]研究生学籍信息表!$V$4:$V$1084)} -> 汉族 | E14: 华南农业大学 | F14: 植物保护学院 | G14: 植物病理学 | H14: 20242021010 | I14: {=_xlfn.XLOOKUP(B14,[1]研究生学籍信息表!$F$4:$F$1084,[1]研究生学籍信息表!$T$4:$T$1084)} -> 45536 | J14: 是 | K14: 否
A15: 11 | B15: 黄伟娜 | C15: 女 | D15: {=_xlfn.XLOOKUP(B15,[1]研究生学籍信息表!$F$4:$F$1084,[1]研究生学籍信息表!$V$4:$V$1084)} -> 汉族 | E15: 华南农业大学 | F15: 植物保护学院 | G15: 植物病理学 | H15: 20242021011 | I15: {=_xlfn.XLOOKUP(B15,[1]研究生学籍信息表!$F$4:$F$1084,[1]研究生学籍信息表!$T$4:$T$1084)} -> 45536 | J15: 是 | K15: 否
A16: 12 | B16: 黎杨凯 | C16: 男 | D16: {=_xlfn.XLOOKUP(B16,[1]研究生学籍信息表!$F$4:$F$1084,[1]研究生学籍信息表!$V$4:$V$1084)} -> 汉族 | E16: 华南农业大学 | F16: 植物保护学院 | G16: 植物病理学 | H16: 20242021012 | I16: {=_xlfn.XLOOKUP(B16,[1]研究生学籍信息表!$F$4:$F$1084,[1]研究生学籍信息表!$T$4:$T$1084)} -> 45536 | J16: 是 | K16: 否
... A670: 666 | B670: 黄嘉琳 | C670: 女 | D670: {=_xlfn.XLOOKUP(B670,[1]研究生学籍信息表!$F$4:$F$1084,[1]研究生学籍信息表!$V$4:$V$1084)} -> 汉族 | E670: 华南农业大学 | F670: 植物保护学院 | G670: 资源利用与植物保护 | H670: 20263138172 | I670: {=_xlfn.XLOOKUP(B670,[1]研究生学籍信息表!$F$4:$F$1084,[1]研究生学籍信息表!$T$4:$T$1084)} -> 46266 | J670: 是 | K670: 否
A671: 667 | B671: 黄蕊 | C671: 女 | D671: {=_xlfn.XLOOKUP(B671,[1]研究生学籍信息表!$F$4:$F$1084,[1]研究生学籍信息表!$V$4:$V$1084)} -> 汉族 | E671: 华南农业大学 | F671: 植物保护学院 | G671: 资源利用与植物保护 | H671: 20263138173 | I671: 46266 | J671: 是 | K671: 否
A672: 668 | B672: 黄森 | C672: 男 | D672: {=_xlfn.XLOOKUP(B672,[1]研究生学籍信息表!$F$4:$F$1084,[1]研究生学籍信息表!$V$4:$V$1084)} -> 汉族 | E672: 华南农业大学 | F672: 植物保护学院 | G672: 资源利用与植物保护 | H672: 20263138174 | I672: {=_xlfn.XLOOKUP(B672,[1]研究生学籍信息表!$F$4:$F$1084,[1]研究生学籍信息表!$T$4:$T$1084)} -> 46266 | J672: 是 | K672: 否
A673: 669 | B673: 黄舒婷 | C673: 女 | D673: {=_xlfn.XLOOKUP(B673,[1]研究生学籍信息表!$F$4:$F$1084,[1]研究生学籍信息表!$V$4:$V$1084)} -> 汉族 | E673: 华南农业大学 | F673: 植物保护学院 | G673: 资源利用与植物保护 | H673: 20263138175 | I673: {=_xlfn.XLOOKUP(B673,[1]研究生学籍信息表!$F$4:$F$1084,[1]研究生学籍信息表!$T$4:$T$1084)} -> 46266 | J673: 是 | K673: 否
A674: 670 | B674: 黄鑫 | C674: 女 | D674: {=_xlfn.XLOOKUP(B674,[1]研究生学籍信息表!$F$4:$F$1084,[1]研究生学籍信息表!$V$4:$V$1084)} -> 汉族 | E674: 华南农业大学 | F674: 植物保护学院 | G674: 资源利用与植物保护 | H674: 20263138176 | I674: {=_xlfn.XLOOKUP(B674,[1]研究生学籍信息表!$F$4:$F$1084,[1]研究生学籍信息表!$T$4:$T$1084)} -> 46266 | J674: 是 | K674: 否
A675: 671 | B675: 黄奕 | C675: 女 | D675: {=_xlfn.XLOOKUP(B675,[1]研究生学籍信息表!$F$4:$F$1084,[1]研究生学籍信息表!$V$4:$V$1084)} -> 汉族 | E675: 华南农业大学 | F675: 植物保护学院 | G675: 资源利用与植物保护 | H675: 20263138177 | I675: {=_xlfn.XLOOKUP(B675,[1]研究生学籍信息表!$F$4:$F$1084,[1]研究生学籍信息表!$T$4:$T$1084)} -> 46266 | J675: 是 | K675: 否
A676: 672 | B676: 黄雨升 | C676: 男 | D676: {=_xlfn.XLOOKUP(B676,[1]研究生学籍信息表!$F$4:$F$1084,[1]研究生学籍信息表!$V$4:$V$1084)} -> 汉族 | E676: 华南农业大学 | F676: 植物保护学院 | G676: 资源利用与植物保护 | H676: 20263138178 | I676: {=_xlfn.XLOOKUP(B676,[1]研究生学籍信息表!$F$4:$F$1084,[1]研究生学籍信息表!$T$4:$T$1084)} -> 46266 | J676: 是 | K676: 否
A677: 673 | B677: 黄禹梅 | C677: 女 | D677: {=_xlfn.XLOOKUP(B677,[1]研究生学籍信息表!$F$4:$F$1084,[1]研究生学籍信息表!$V$4:$V$1084)} -> 汉族 | E677: 华南农业大学 | F677: 植物保护学院 | G677: 资源利用与植物保护 | H677: 20263138179 | I677: {=_xlfn.XLOOKUP(B677,[1]研究生学籍信息表!$F$4:$F$1084,[1]研究生学籍信息表!$T$4:$T$1084)} -> 46266 | J677: 是 | K677: 否
A678: 674 | B678: 黄媛欣 | C678: 女 | D678: {=_xlfn.XLOOKUP(B678,[1]研究生学籍信息表!$F$4:$F$1084,[1]研究生学籍信息表!$V$4:$V$1084)} -> 汉族 | E678: 华南农业大学 | F678: 植物保护学院 | G678: 资源利用与植物保护 | H678: 20263138181 | I678: {=_xlfn.XLOOKUP(B678,[1]研究生学籍信息表!$F$4:$F$1084,[1]研究生学籍信息表!$T$4:$T$1084)} -> 46266 | J678: 是 | K678: 否
A679: 675 | B679: 黄粤超 | C679: 男 | D679: {=_xlfn.XLOOKUP(B679,[1]研究生学籍信息表!$F$4:$F$1084,[1]研究生学籍信息表!$V$4:$V$1084)} -> 汉族 | E679: 华南农业大学 | F679: 植物保护学院 | G679: 资源利用与植物保护 | H679: 20263138182 | I679: {=_xlfn.XLOOKUP(B679,[1]研究生学籍信息表!$F$4:$F$1084,[1]研究生学籍信息表!$T$4:$T$1084)} -> 46266 | J679: 是 | K679: 否
A680: 676 | B680: 姜山 | C680: 男 | D680: {=_xlfn.XLOOKUP(B680,[1]研究生学籍信息表!$F$4:$F$1084,[1]研究生学籍信息表!$V$4:$V$1084)} -> 汉族 | E680: 华南农业大学 | F680: 植物保护学院 | G680: 资源利用与植物保护 | H680: 20263138183 | I680: {=_xlfn.XLOOKUP(B680,[1]研究生学籍信息表!$F$4:$F$1084,[1]研究生学籍信息表!$T$4:$T$1084)} -> 46266 | J680: 是 | K680: 否
A681: 677 | B681: 姜遥 | C681: 女 | D681: {=_xlfn.XLOOKUP(B681,[1]研究生学籍信息表!$F$4:$F$1084,[1]研究生学籍信息表!$V$4:$V$1084)} -> 汉族 | E681: 华南农业大学 | F681: 植物保护学院 | G681: 资源利用与植物保护 | H681: 20263138184 | I681: {=_xlfn.XLOOKUP(B681,[1]研究生学籍信息表!$F$4:$F$1084,[1]研究生学籍信息表!$T$4:$T$1084)} -> 46266 | J681: 是 | K681: 否
A682: 678 | B682: 蒋晓琦 | C682: 女 | D682: {=_xlfn.XLOOKUP(B682,[1]研究生学籍信息表!$F$4:$F$1084,[1]研究生学籍信息表!$V$4:$V$1084)} -> 汉族 | E682: 华南农业大学 | F682: 植物保护学院 | G682: 资源利用与植物保护 | H682: 20263138185 | I682: {=_xlfn.XLOOKUP(B682,[1]研究生学籍信息表!$F$4:$F$1084,[1]研究生学籍信息表!$T$4:$T$1084)} -> 46266 | J682: 是 | K682: 否
A683: 679 | B683: 金梦之 | C683: 男 | D683: {=_xlfn.XLOOKUP(B683,[1]研究生学籍信息表!$F$4:$F$1084,[1]研究生学籍信息表!$V$4:$V$1084)} -> 汉族 | E683: 华南农业大学 | F683: 植物保护学院 | G683: 资源利用与植物保护 | H683: 20263138186 | I683: {=_xlfn.XLOOKUP(B683,[1]研究生学籍信息表!$F$4:$F$1084,[1]研究生学籍信息表!$T$4:$T$1084)} -> 46266 | J683: 是 | K683: 否
... A842: 838 | B842: 邹丽雪 | C842: 女 | D842: {=_xlfn.XLOOKUP(B842,[1]研究生学籍信息表!$F$4:$F$1084,[1]研究生学籍信息表!$V$4:$V$1084)} -> 壮族 | E842: 华南农业大学 | F842: 植物保护学院 | G842: 资源利用与植物保护 | H842: 20263138348 | I842: {=_xlfn.XLOOKUP(B842,[1]研究生学籍信息表!$F$4:$F$1084,[1]研究生学籍信息表!$T$4:$T$1084)} -> 46266 | J842: 是 | K842: 否
