Workbook

Sheet Sheet1
A1: 华南农业大学2026-2027学年广东省博士研究生国家助学金受助学生汇总表
A2: 填报单位（公章）：
A3: 序号 | B3: 学生姓名 | C3: 性别 | D3: 民族 | E3: 培养单位 | F3: 基层单位 | G3: 专业 | H3: 学号 | I3: 入学年月 | J3: 是否档案已到校 | K3: 是否有固定收入 | L3: 其他说明事项
A4: 示例 | B4: 张三 | C4: 男 | D4: 汉族 | E4: 华南农业大学 | F4: 农学院 | G4: 作物遗传育种 | H4: 填写准确 | I4: 2026年9月
A5: 1 | B5: 罗文秀 | C5: 女 | D5: {=_xlfn.XLOOKUP(B5,[1]研究生学籍信息表!$F$4:$F$1084,[1]研究生学籍信息表!$V$4:$V$1084)} -> 彝族 | E5: 华南农业大学 | F5: 植物保护学院 | G5: 作物遗传育种 | H5: 20241015023 | I5: {=_xlfn.XLOOKUP(B5,[1]研究生学籍信息表!$F$4:$F$1084,[1]研究生学籍信息表!$T$4:$T$1084)} -> 45536 | J5: 是 | K5: 否
A6: 2 | B6: 向美琴 | C6: 女 | D6: {=_xlfn.XLOOKUP(B6,[1]研究生学籍信息表!$F$4:$F$1084,[1]研究生学籍信息表!$V$4:$V$1084)} -> 汉族 | E6: 华南农业大学 | F6: 植物保护学院 | G6: 作物遗传育种 | H6: 20241015033 | I6: {=_xlfn.XLOOKUP(B6,[1]研究生学籍信息表!$F$4:$F$1084,[1]研究生学籍信息表!$T$4:$T$1084)} -> 45536 | J6: 是 | K6: 否
A7: 3 | B7: 冯汝晴 | C7: 女 | D7: {=_xlfn.XLOOKUP(B7,[1]研究生学籍信息表!$F$4:$F$1084,[1]研究生学籍信息表!$V$4:$V$1084)} -> 汉族 | E7: 华南农业大学 | F7: 植物保护学院 | G7: 植物病理学 | H7: 20241021001 | I7: {=_xlfn.XLOOKUP(B7,[1]研究生学籍信息表!$F$4:$F$1084,[1]研究生学籍信息表!$T$4:$T$1084)} -> 45536 | J7: 是 | K7: 否
A8: 4 | B8: 胡志剑 | C8: 男 | D8: {=_xlfn.XLOOKUP(B8,[1]研究生学籍信息表!$F$4:$F$1084,[1]研究生学籍信息表!$V$4:$V$1084)} -> 汉族 | E8: 华南农业大学 | F8: 植物保护学院 | G8: 植物病理学 | H8: 20241021002 | I8: {=_xlfn.XLOOKUP(B8,[1]研究生学籍信息表!$F$4:$F$1084,[1]研究生学籍信息表!$T$4:$T$1084)} -> 45536 | J8: 是 | K8: 否
A9: 5 | B9: 李泳霖 | C9: 女 | D9: {=_xlfn.XLOOKUP(B9,[1]研究生学籍信息表!$F$4:$F$1084,[1]研究生学籍信息表!$V$4:$V$1084)} -> 汉族 | E9: 华南农业大学 | F9: 植物保护学院 | G9: 植物病理学 | H9: 20241021003 | I9: {=_xlfn.XLOOKUP(B9,[1]研究生学籍信息表!$F$4:$F$1084,[1]研究生学籍信息表!$T$4:$T$1084)} -> 45536 | J9: 是 | K9: 否
A10: 6 | B10: 林晓静 | C10: 女 | D10: {=_xlfn.XLOOKUP(B10,[1]研究生学籍信息表!$F$4:$F$1084,[1]研究生学籍信息表!$V$4:$V$1084)} -> 汉族 | E10: 华南农业大学 | F10: 植物保护学院 | G10: 植物病理学 | H10: 20241021004 | I10: {=_xlfn.XLOOKUP(B10,[1]研究生学籍信息表!$F$4:$F$1084,[1]研究生学籍信息表!$T$4:$T$1084)} -> 45536 | J10: 是 | K10: 否
A11: 7 | B11: 唐淞 | C11: 男 | D11: {=_xlfn.XLOOKUP(B11,[1]研究生学籍信息表!$F$4:$F$1084,[1]研究生学籍信息表!$V$4:$V$1084)} -> 侗族 | E11: 华南农业大学 | F11: 植物保护学院 | G11: 植物病理学 | H11: 20241021005 | I11: {=_xlfn.XLOOKUP(B11,[1]研究生学籍信息表!$F$4:$F$1084,[1]研究生学籍信息表!$T$4:$T$1084)} -> 45536 | J11: 是 | K11: 否
A12: 8 | B12: 韦锦源 | C12: 男 | D12: {=_xlfn.XLOOKUP(B12,[1]研究生学籍信息表!$F$4:$F$1084,[1]研究生学籍信息表!$V$4:$V$1084)} -> 汉族 | E12: 华南农业大学 | F12: 植物保护学院 | G12: 植物病理学 | H12: 20241021006 | I12: {=_xlfn.XLOOKUP(B12,[1]研究生学籍信息表!$F$4:$F$1084,[1]研究生学籍信息表!$T$4:$T$1084)} -> 45536 | J12: 是 | K12: 否
A13: 9 | B13: 吴汉鹏 | C13: 男 | D13: {=_xlfn.XLOOKUP(B13,[1]研究生学籍信息表!$F$4:$F$1084,[1]研究生学籍信息表!$V$4:$V$1084)} -> 汉族 | E13: 华南农业大学 | F13: 植物保护学院 | G13: 植物病理学 | H13: 20241021007 | I13: {=_xlfn.XLOOKUP(B13,[1]研究生学籍信息表!$F$4:$F$1084,[1]研究生学籍信息表!$T$4:$T$1084)} -> 45536 | J13: 是 | K13: 否
A14: 10 | B14: 颜婧雅 | C14: 女 | D14: {=_xlfn.XLOOKUP(B14,[1]研究生学籍信息表!$F$4:$F$1084,[1]研究生学籍信息表!$V$4:$V$1084)} -> 汉族 | E14: 华南农业大学 | F14: 植物保护学院 | G14: 植物病理学 | H14: 20241021008 | I14: {=_xlfn.XLOOKUP(B14,[1]研究生学籍信息表!$F$4:$F$1084,[1]研究生学籍信息表!$T$4:$T$1084)} -> 45536 | J14: 是 | K14: 否
A15: 11 | B15: 杨欣盛 | C15: 女 | D15: {=_xlfn.XLOOKUP(B15,[1]研究生学籍信息表!$F$4:$F$1084,[1]研究生学籍信息表!$V$4:$V$1084)} -> 纳西族 | E15: 华南农业大学 | F15: 植物保护学院 | G15: 植物病理学 | H15: 20241021009 | I15: {=_xlfn.XLOOKUP(B15,[1]研究生学籍信息表!$F$4:$F$1084,[1]研究生学籍信息表!$T$4:$T$1084)} -> 45536 | J15: 是 | K15: 否
A16: 12 | B16: 张淼 | C16: 女 | D16: {=_xlfn.XLOOKUP(B16,[1]研究生学籍信息表!$F$4:$F$1084,[1]研究生学籍信息表!$V$4:$V$1084)} -> 汉族 | E16: 华南农业大学 | F16: 植物保护学院 | G16: 植物病理学 | H16: 20241021010 | I16: {=_xlfn.XLOOKUP(B16,[1]研究生学籍信息表!$F$4:$F$1084,[1]研究生学籍信息表!$T$4:$T$1084)} -> 45536 | J16: 是 | K16: 否
... A104: 100 | B104: 朱诗琪 | C104: 女 | D104: {=_xlfn.XLOOKUP(B104,[1]研究生学籍信息表!$F$4:$F$1084,[1]研究生学籍信息表!$V$4:$V$1084)} -> 汉族 | E104: 华南农业大学 | F104: 植物保护学院 | G104: 农药学 | H104: 20261023007 | I104: {=_xlfn.XLOOKUP(B104,[1]研究生学籍信息表!$F$4:$F$1084,[1]研究生学籍信息表!$T$4:$T$1084)} -> 46266 | J104: 是 | K104: 否
A105: 101 | B105: 雷俊杰 | C105: 男 | D105: {=_xlfn.XLOOKUP(B105,[1]研究生学籍信息表!$F$4:$F$1084,[1]研究生学籍信息表!$V$4:$V$1084)} -> 汉族 | E105: 华南农业大学 | F105: 植物保护学院 | G105: 生物学 | H105: 20261190044 | I105: =_xlfn.XLOOKUP(B105,[1]研究生学籍信息表!$F$4:$F$1084,[1]研究生学籍信息表!$T$4:$T$1084) -> 45168 | J105: 是 | K105: 否
A106: 102 | B106: 刘名求 | C106: 男 | D106: {=_xlfn.XLOOKUP(B106,[1]研究生学籍信息表!$F$4:$F$1084,[1]研究生学籍信息表!$V$4:$V$1084)} -> 汉族 | E106: 华南农业大学 | F106: 植物保护学院 | G106: 生物学 | H106: 20261190045 | I106: {=_xlfn.XLOOKUP(B106,[1]研究生学籍信息表!$F$4:$F$1084,[1]研究生学籍信息表!$T$4:$T$1084)} -> 45168 | J106: 是 | K106: 否
A107: 103 | B107: 常金哲 | C107: 男 | D107: {=_xlfn.XLOOKUP(B107,[1]研究生学籍信息表!$F$4:$F$1084,[1]研究生学籍信息表!$V$4:$V$1084)} -> 汉族 | E107: 华南农业大学 | F107: 植物保护学院 | G107: 植物保护 | H107: 20254197036 | I107: {=_xlfn.XLOOKUP(B107,[1]研究生学籍信息表!$F$4:$F$1084,[1]研究生学籍信息表!$T$4:$T$1084)} -> 45901 | J107: 是 | K107: 否
A108: 104 | B108: 丁夏威 | C108: 女 | D108: {=_xlfn.XLOOKUP(B108,[1]研究生学籍信息表!$F$4:$F$1084,[1]研究生学籍信息表!$V$4:$V$1084)} -> 汉族 | E108: 华南农业大学 | F108: 植物保护学院 | G108: 植物保护 | H108: 20254197037 | I108: {=_xlfn.XLOOKUP(B108,[1]研究生学籍信息表!$F$4:$F$1084,[1]研究生学籍信息表!$T$4:$T$1084)} -> 45901 | J108: 是 | K108: 否
A109: 105 | B109: 李佳丽 | C109: 女 | D109: {=_xlfn.XLOOKUP(B109,[1]研究生学籍信息表!$F$4:$F$1084,[1]研究生学籍信息表!$V$4:$V$1084)} -> 汉族 | E109: 华南农业大学 | F109: 植物保护学院 | G109: 植物保护 | H109: 20254197038 | I109: {=_xlfn.XLOOKUP(B109,[1]研究生学籍信息表!$F$4:$F$1084,[1]研究生学籍信息表!$T$4:$T$1084)} -> 45901 | J109: 是 | K109: 否
A110: 106 | B110: 李建兴 | C110: 男 | D110: {=_xlfn.XLOOKUP(B110,[1]研究生学籍信息表!$F$4:$F$1084,[1]研究生学籍信息表!$V$4:$V$1084)} -> 汉族 | E110: 华南农业大学 | F110: 植物保护学院 | G110: 植物保护 | H110: 20254197039 | I110: {=_xlfn.XLOOKUP(B110,[1]研究生学籍信息表!$F$4:$F$1084,[1]研究生学籍信息表!$T$4:$T$1084)} -> 45901 | J110: 是 | K110: 否
A111: 107 | B111: 李梦妮 | C111: 女 | D111: {=_xlfn.XLOOKUP(B111,[1]研究生学籍信息表!$F$4:$F$1084,[1]研究生学籍信息表!$V$4:$V$1084)} -> 汉族 | E111: 华南农业大学 | F111: 植物保护学院 | G111: 植物保护 | H111: 20254197040 | I111: {=_xlfn.XLOOKUP(B111,[1]研究生学籍信息表!$F$4:$F$1084,[1]研究生学籍信息表!$T$4:$T$1084)} -> 45901 | J111: 是 | K111: 否
A112: 108 | B112: 蔺良杰 | C112: 男 | D112: {=_xlfn.XLOOKUP(B112,[1]研究生学籍信息表!$F$4:$F$1084,[1]研究生学籍信息表!$V$4:$V$1084)} -> 汉族 | E112: 华南农业大学 | F112: 植物保护学院 | G112: 植物保护 | H112: 20254197041 | I112: {=_xlfn.XLOOKUP(B112,[1]研究生学籍信息表!$F$4:$F$1084,[1]研究生学籍信息表!$T$4:$T$1084)} -> 45901 | J112: 是 | K112: 否
A113: 109 | B113: 刘阳霈玲 | C113: 女 | D113: {=_xlfn.XLOOKUP(B113,[1]研究生学籍信息表!$F$4:$F$1084,[1]研究生学籍信息表!$V$4:$V$1084)} -> 汉族 | E113: 华南农业大学 | F113: 植物保护学院 | G113: 植物保护 | H113: 20254197042 | I113: {=_xlfn.XLOOKUP(B113,[1]研究生学籍信息表!$F$4:$F$1084,[1]研究生学籍信息表!$T$4:$T$1084)} -> 45901 | J113: 是 | K113: 否
A114: 110 | B114: 王佳淳 | C114: 女 | D114: {=_xlfn.XLOOKUP(B114,[1]研究生学籍信息表!$F$4:$F$1084,[1]研究生学籍信息表!$V$4:$V$1084)} -> 汉族 | E114: 华南农业大学 | F114: 植物保护学院 | G114: 植物保护 | H114: 20254197043 | I114: {=_xlfn.XLOOKUP(B114,[1]研究生学籍信息表!$F$4:$F$1084,[1]研究生学籍信息表!$T$4:$T$1084)} -> 45901 | J114: 是 | K114: 否
A115: 111 | B115: 张颖昕 | C115: 女 | D115: {=_xlfn.XLOOKUP(B115,[1]研究生学籍信息表!$F$4:$F$1084,[1]研究生学籍信息表!$V$4:$V$1084)} -> 汉族 | E115: 华南农业大学 | F115: 植物保护学院 | G115: 植物保护 | H115: 20254197044 | I115: {=_xlfn.XLOOKUP(B115,[1]研究生学籍信息表!$F$4:$F$1084,[1]研究生学籍信息表!$T$4:$T$1084)} -> 45901 | J115: 是 | K115: 否
A116: 112 | B116: 周川浩 | C116: 男 | D116: {=_xlfn.XLOOKUP(B116,[1]研究生学籍信息表!$F$4:$F$1084,[1]研究生学籍信息表!$V$4:$V$1084)} -> 汉族 | E116: 华南农业大学 | F116: 植物保护学院 | G116: 植物保护 | H116: 20254197045 | I116: {=_xlfn.XLOOKUP(B116,[1]研究生学籍信息表!$F$4:$F$1084,[1]研究生学籍信息表!$T$4:$T$1084)} -> 45901 | J116: 是 | K116: 否
A117: 113 | B117: 刘梦坤 | C117: 男 | D117: {=_xlfn.XLOOKUP(B117,[1]研究生学籍信息表!$F$4:$F$1084,[1]研究生学籍信息表!$V$4:$V$1084)} -> 汉族 | E117: 华南农业大学 | F117: 植物保护学院 | G117: 植物保护 | H117: 20264197007 | I117: {=_xlfn.XLOOKUP(B117,[1]研究生学籍信息表!$F$4:$F$1084,[1]研究生学籍信息表!$T$4:$T$1084)} -> 46266 | J117: 是 | K117: 否
... A127: 123 | B127: 钟梓春 | C127: 男 | D127: {=_xlfn.XLOOKUP(B127,[1]研究生学籍信息表!$F$4:$F$1084,[1]研究生学籍信息表!$V$4:$V$1084)} -> 汉族 | E127: 华南农业大学 | F127: 植物保护学院 | G127: 植物保护 | H127: 20264197062 | I127: {=_xlfn.XLOOKUP(B127,[1]研究生学籍信息表!$F$4:$F$1084,[1]研究生学籍信息表!$T$4:$T$1084)} -> 46266 | J127: 是 | K127: 否
A128: 124 | B128: 吴勇昊 | C128: 男 | D128: {=_xlfn.XLOOKUP(B128,[1]研究生学籍信息表!$F$4:$F$1084,[1]研究生学籍信息表!$V$4:$V$1084)} -> 汉族 | E128: 华南农业大学 | F128: 植物保护学院 | G128: 作物栽培学与耕作学 | H128: 20231014006 | I128: 45170 | J128: 是 | K128: 否
A129: 125 | B129: 杨朦朦 | C129: 女 | D129: {=_xlfn.XLOOKUP(B129,[1]研究生学籍信息表!$F$4:$F$1084,[1]研究生学籍信息表!$V$4:$V$1084)} -> 汉族 | E129: 华南农业大学 | F129: 植物保护学院 | G129: 作物栽培学与耕作学 | H129: 20231014007 | I129: 45171 | J129: 是 | K129: 否
A130: 126 | B130: 黄庭鸿 | C130: 男 | D130: {=_xlfn.XLOOKUP(B130,[1]研究生学籍信息表!$F$4:$F$1084,[1]研究生学籍信息表!$V$4:$V$1084)} -> 汉族 | E130: 华南农业大学 | F130: 植物保护学院 | G130: 作物遗传育种 | H130: 20231015006 | I130: 45172 | J130: 是 | K130: 否
A131: 127 | B131: 周文杰 | C131: 女 | D131: {=_xlfn.XLOOKUP(B131,[1]研究生学籍信息表!$F$4:$F$1084,[1]研究生学籍信息表!$V$4:$V$1084)} -> 汉族 | E131: 华南农业大学 | F131: 植物保护学院 | G131: 作物遗传育种 | H131: 20231015027 | I131: 45173 | J131: 是 | K131: 否
A132: 128 | B132: 毕新萍 | C132: 女 | D132: {=_xlfn.XLOOKUP(B132,[1]研究生学籍信息表!$F$4:$F$1084,[1]研究生学籍信息表!$V$4:$V$1084)} -> 汉族 | E132: 华南农业大学 | F132: 植物保护学院 | G132: 植物病理学 | H132: 20231021001 | I132: 45174 | J132: 是 | K132: 否
A133: 129 | B133: 曹雨晴 | C133: 女 | D133: {=_xlfn.XLOOKUP(B133,[1]研究生学籍信息表!$F$4:$F$1084,[1]研究生学籍信息表!$V$4:$V$1084)} -> 汉族 | E133: 华南农业大学 | F133: 植物保护学院 | G133: 植物病理学 | H133: 20231021002 | I133: 45175 | J133: 是 | K133: 否
A134: 130 | B134: 方芳 | C134: 女 | D134: {=_xlfn.XLOOKUP(B134,[1]研究生学籍信息表!$F$4:$F$1084,[1]研究生学籍信息表!$V$4:$V$1084)} -> 汉族 | E134: 华南农业大学 | F134: 植物保护学院 | G134: 植物病理学 | H134: 20231021003 | I134: 45176 | J134: 是 | K134: 否
A135: 131 | B135: 黄荣 | C135: 女 | D135: {=_xlfn.XLOOKUP(B135,[1]研究生学籍信息表!$F$4:$F$1084,[1]研究生学籍信息表!$V$4:$V$1084)} -> 汉族 | E135: 华南农业大学 | F135: 植物保护学院 | G135: 植物病理学 | H135: 20231021004 | I135: 45177 | J135: 是 | K135: 否
A136: 132 | B136: 龙茹慧 | C136: 女 | D136: {=_xlfn.XLOOKUP(B136,[1]研究生学籍信息表!$F$4:$F$1084,[1]研究生学籍信息表!$V$4:$V$1084)} -> 汉族 | E136: 华南农业大学 | F136: 植物保护学院 | G136: 植物病理学 | H136: 20231021005 | I136: 45178 | J136: 是 | K136: 否
...
